BEGIN:VCALENDAR
VERSION:2.0
PRODID:-//Dundas Pipes and Drums - ECPv6.15.5//NONSGML v1.0//EN
CALSCALE:GREGORIAN
METHOD:PUBLISH
X-WR-CALNAME:Dundas Pipes and Drums
X-ORIGINAL-URL:https://dundaspipesanddrums.org
X-WR-CALDESC:Events for Dundas Pipes and Drums
REFRESH-INTERVAL;VALUE=DURATION:PT1H
X-Robots-Tag:noindex
X-PUBLISHED-TTL:PT1H
BEGIN:VTIMEZONE
TZID:America/Toronto
BEGIN:DAYLIGHT
TZOFFSETFROM:-0500
TZOFFSETTO:-0400
TZNAME:EDT
DTSTART:20180311T070000
END:DAYLIGHT
BEGIN:STANDARD
TZOFFSETFROM:-0400
TZOFFSETTO:-0500
TZNAME:EST
DTSTART:20181104T060000
END:STANDARD
END:VTIMEZONE
BEGIN:VEVENT
DTSTART;TZID=America/Toronto:20180923T120000
DTEND;TZID=America/Toronto:20180923T140000
DTSTAMP:20260425T192445
CREATED:20180806T232431Z
LAST-MODIFIED:20180806T232431Z
UID:198-1537704000-1537711200@dundaspipesanddrums.org
SUMMARY:Band Recruitment Open House
DESCRIPTION:This event is primarily for those who wish to learn to play the pipes or drums and join the band.  It is an opportunity to see a lesson in progress\, speak with our instructors and students\, and have any of your questions answered as to receiving free instruction.  Our aim is to teach all students so that they can join us on parade and be part of the Dundas tradition
URL:https://dundaspipesanddrums.org/event/band-recruitment-open-house/
LOCATION:Ontario
ORGANIZER;CN="Dundas Pipe Band":MAILTO:kgriffin8@cogeco.ca
END:VEVENT
END:VCALENDAR