BEGIN:VCALENDAR
VERSION:2.0
PRODID:-//Dundas Pipes and Drums - ECPv6.15.5//NONSGML v1.0//EN
CALSCALE:GREGORIAN
METHOD:PUBLISH
X-WR-CALNAME:Dundas Pipes and Drums
X-ORIGINAL-URL:https://dundaspipesanddrums.org
X-WR-CALDESC:Events for Dundas Pipes and Drums
REFRESH-INTERVAL;VALUE=DURATION:PT1H
X-Robots-Tag:noindex
X-PUBLISHED-TTL:PT1H
BEGIN:VTIMEZONE
TZID:America/Toronto
BEGIN:DAYLIGHT
TZOFFSETFROM:-0500
TZOFFSETTO:-0400
TZNAME:EDT
DTSTART:20190310T070000
END:DAYLIGHT
BEGIN:STANDARD
TZOFFSETFROM:-0400
TZOFFSETTO:-0500
TZNAME:EST
DTSTART:20191103T060000
END:STANDARD
END:VTIMEZONE
BEGIN:VEVENT
DTSTART;TZID=America/Toronto:20190504T063000
DTEND;TZID=America/Toronto:20190504T230000
DTSTAMP:20260425T081844
CREATED:20190323T193954Z
LAST-MODIFIED:20190323T194741Z
UID:236-1556951400-1557010800@dundaspipesanddrums.org
SUMMARY:Spring Fling Ceilidh
DESCRIPTION:
URL:https://dundaspipesanddrums.org/event/236/
LOCATION:Ontario
ORGANIZER;CN="Dundas Pipe Band":MAILTO:kgriffin8@cogeco.ca
END:VEVENT
END:VCALENDAR