BEGIN:VCALENDAR
VERSION:2.0
PRODID:-//Dundas Pipes and Drums - ECPv6.15.5//NONSGML v1.0//EN
CALSCALE:GREGORIAN
METHOD:PUBLISH
X-WR-CALNAME:Dundas Pipes and Drums
X-ORIGINAL-URL:https://dundaspipesanddrums.org
X-WR-CALDESC:Events for Dundas Pipes and Drums
REFRESH-INTERVAL;VALUE=DURATION:PT1H
X-Robots-Tag:noindex
X-PUBLISHED-TTL:PT1H
BEGIN:VTIMEZONE
TZID:America/Toronto
BEGIN:DAYLIGHT
TZOFFSETFROM:-0500
TZOFFSETTO:-0400
TZNAME:EDT
DTSTART:20230312T070000
END:DAYLIGHT
BEGIN:STANDARD
TZOFFSETFROM:-0400
TZOFFSETTO:-0500
TZNAME:EST
DTSTART:20231105T060000
END:STANDARD
END:VTIMEZONE
BEGIN:VEVENT
DTSTART;TZID=America/Toronto:20230125T183000
DTEND;TZID=America/Toronto:20230125T200000
DTSTAMP:20260423T010935
CREATED:20230112T214159Z
LAST-MODIFIED:20230112T221341Z
UID:359-1674671400-1674676800@dundaspipesanddrums.org
SUMMARY:Burns' Night at the Shed 65 Hatt St. Dundas
DESCRIPTION:
URL:https://dundaspipesanddrums.org/event/burns-night-at-the-shed-65-hatt-st-dundas/
LOCATION:Ontario
END:VEVENT
END:VCALENDAR