BEGIN:VCALENDAR
VERSION:2.0
PRODID:-//Dundas Pipes and Drums - ECPv6.15.5//NONSGML v1.0//EN
CALSCALE:GREGORIAN
METHOD:PUBLISH
X-WR-CALNAME:Dundas Pipes and Drums
X-ORIGINAL-URL:https://dundaspipesanddrums.org
X-WR-CALDESC:Events for Dundas Pipes and Drums
REFRESH-INTERVAL;VALUE=DURATION:PT1H
X-Robots-Tag:noindex
X-PUBLISHED-TTL:PT1H
BEGIN:VTIMEZONE
TZID:America/Toronto
BEGIN:DAYLIGHT
TZOFFSETFROM:-0500
TZOFFSETTO:-0400
TZNAME:EDT
DTSTART:20230312T070000
END:DAYLIGHT
BEGIN:STANDARD
TZOFFSETFROM:-0400
TZOFFSETTO:-0500
TZNAME:EST
DTSTART:20231105T060000
END:STANDARD
END:VTIMEZONE
BEGIN:VEVENT
DTSTART;TZID=America/Toronto:20230531T120000
DTEND;TZID=America/Toronto:20230531T160000
DTSTAMP:20260422T180449
CREATED:20230620T222612Z
LAST-MODIFIED:20230620T222612Z
UID:393-1685534400-1685548800@dundaspipesanddrums.org
SUMMARY:St. Joseph's Villa Picnic
DESCRIPTION:We will be a part of the opening ceremonies for the House of Providence Picnic.
URL:https://dundaspipesanddrums.org/event/st-josephs-villa-picnic/
LOCATION:Ontario
END:VEVENT
END:VCALENDAR