BEGIN:VCALENDAR
VERSION:2.0
PRODID:-//Dundas Pipes and Drums - ECPv6.15.5//NONSGML v1.0//EN
CALSCALE:GREGORIAN
METHOD:PUBLISH
X-WR-CALNAME:Dundas Pipes and Drums
X-ORIGINAL-URL:https://dundaspipesanddrums.org
X-WR-CALDESC:Events for Dundas Pipes and Drums
REFRESH-INTERVAL;VALUE=DURATION:PT1H
X-Robots-Tag:noindex
X-PUBLISHED-TTL:PT1H
BEGIN:VTIMEZONE
TZID:America/Toronto
BEGIN:DAYLIGHT
TZOFFSETFROM:-0500
TZOFFSETTO:-0400
TZNAME:EDT
DTSTART:20230312T070000
END:DAYLIGHT
BEGIN:STANDARD
TZOFFSETFROM:-0400
TZOFFSETTO:-0500
TZNAME:EST
DTSTART:20231105T060000
END:STANDARD
END:VTIMEZONE
BEGIN:VEVENT
DTSTART;TZID=America/Toronto:20231103T190000
DTEND;TZID=America/Toronto:20231103T230000
DTSTAMP:20260422T113730
CREATED:20231004T211920Z
LAST-MODIFIED:20231004T211920Z
UID:410-1699038000-1699052400@dundaspipesanddrums.org
SUMMARY:Celtic Pub Night
DESCRIPTION:This is a Celtic Kitchen party featuring the Dundas Pipes and Drums as well as:  a Celtic singer\, dancers\, fiddler\, small pipes\, Irish pipes and a few surprises. \nFood is available from Shawn & Eds menu.  Try the pizza; it is fabulous!
URL:https://dundaspipesanddrums.org/event/celtic-pub-night/
LOCATION:Ontario
END:VEVENT
END:VCALENDAR