BEGIN:VCALENDAR
VERSION:2.0
PRODID:-//Dundas Pipes and Drums - ECPv6.15.5//NONSGML v1.0//EN
CALSCALE:GREGORIAN
METHOD:PUBLISH
X-WR-CALNAME:Dundas Pipes and Drums
X-ORIGINAL-URL:https://dundaspipesanddrums.org
X-WR-CALDESC:Events for Dundas Pipes and Drums
REFRESH-INTERVAL;VALUE=DURATION:PT1H
X-Robots-Tag:noindex
X-PUBLISHED-TTL:PT1H
BEGIN:VTIMEZONE
TZID:America/Toronto
BEGIN:DAYLIGHT
TZOFFSETFROM:-0500
TZOFFSETTO:-0400
TZNAME:EDT
DTSTART:20240310T070000
END:DAYLIGHT
BEGIN:STANDARD
TZOFFSETFROM:-0400
TZOFFSETTO:-0500
TZNAME:EST
DTSTART:20241103T060000
END:STANDARD
END:VTIMEZONE
BEGIN:VEVENT
DTSTART;TZID=America/Toronto:20240406T190000
DTEND;TZID=America/Toronto:20240406T213000
DTSTAMP:20260422T045209
CREATED:20240401T231800Z
LAST-MODIFIED:20240402T143240Z
UID:434-1712430000-1712439000@dundaspipesanddrums.org
SUMMARY:Tartan Day Kitchen Party
DESCRIPTION:The Dundas Pipes and Drums will be in concert at St. Paul’s Anglican Church\, Westdale.  There will be pipes and drums\, Celtic singer Melyna Foss\, Irish Flutist Rick Tizzard\, small pipes played by Dave Presswell\, electronic piper Mike Connolly and great solo piping by Simon Connolly.  Sarah Woods will be on hand to do some Highland Dancing.  All of this kicks off with Larry Perry on fiddle and harmonica.  Great fun for the whole family. \nTickets are available at the door. \nDoors open at 6:30 \nDrinks and snacks will be available for purchase at the intermission. \nNote:  this is a as a shared fundraiser between the church and the band. \nApril 6 is Tartan Day – be sure to wear a tartan to get into the spirit!
URL:https://dundaspipesanddrums.org/event/tartan-day-kitchen-party/
LOCATION:Ontario
ORGANIZER;CN="Dundas Pipes and Drums":MAILTO:band_manager@dundaspipesanddrums.org
END:VEVENT
END:VCALENDAR