BEGIN:VCALENDAR
VERSION:2.0
PRODID:-//Dundas Pipes and Drums - ECPv6.15.5//NONSGML v1.0//EN
CALSCALE:GREGORIAN
METHOD:PUBLISH
X-ORIGINAL-URL:https://dundaspipesanddrums.org
X-WR-CALDESC:Events for Dundas Pipes and Drums
REFRESH-INTERVAL;VALUE=DURATION:PT1H
X-Robots-Tag:noindex
X-PUBLISHED-TTL:PT1H
BEGIN:VTIMEZONE
TZID:America/Toronto
BEGIN:DAYLIGHT
TZOFFSETFROM:-0500
TZOFFSETTO:-0400
TZNAME:EDT
DTSTART:20240310T070000
END:DAYLIGHT
BEGIN:STANDARD
TZOFFSETFROM:-0400
TZOFFSETTO:-0500
TZNAME:EST
DTSTART:20241103T060000
END:STANDARD
END:VTIMEZONE
BEGIN:VEVENT
DTSTART;TZID=America/Toronto:20240420T193000
DTEND;TZID=America/Toronto:20240420T193000
DTSTAMP:20260422T061545
CREATED:20240402T133244Z
LAST-MODIFIED:20240402T133244Z
UID:439-1713641400-1713641400@dundaspipesanddrums.org
SUMMARY:Allan Cup Opening Ceremony
DESCRIPTION:We have been invited to play at the Opening Ceremony for the Allan Cup (Canadian Sr. Men’s Hockey Championship). \nThis event will be held at the Dundas Grighmire Arena on April 20th at 7:30pm \n 
URL:https://dundaspipesanddrums.org/event/allan-cup-opening-ceremony/
LOCATION:Dundas Grighmire Arena\, 35 Market Street\, Dundas\, Ontario\, L9H 3B3\, Canada
END:VEVENT
END:VCALENDAR