BEGIN:VCALENDAR
VERSION:2.0
PRODID:-//Dundas Pipes and Drums - ECPv6.15.5//NONSGML v1.0//EN
CALSCALE:GREGORIAN
METHOD:PUBLISH
X-ORIGINAL-URL:https://dundaspipesanddrums.org
X-WR-CALDESC:Events for Dundas Pipes and Drums
REFRESH-INTERVAL;VALUE=DURATION:PT1H
X-Robots-Tag:noindex
X-PUBLISHED-TTL:PT1H
BEGIN:VTIMEZONE
TZID:America/Toronto
BEGIN:DAYLIGHT
TZOFFSETFROM:-0500
TZOFFSETTO:-0400
TZNAME:EDT
DTSTART:20240310T070000
END:DAYLIGHT
BEGIN:STANDARD
TZOFFSETFROM:-0400
TZOFFSETTO:-0500
TZNAME:EST
DTSTART:20241103T060000
END:STANDARD
END:VTIMEZONE
BEGIN:VEVENT
DTSTART;TZID=America/Toronto:20240810T120000
DTEND;TZID=America/Toronto:20240810T120000
DTSTAMP:20260421T223730
CREATED:20240402T142244Z
LAST-MODIFIED:20240402T142244Z
UID:464-1723291200-1723291200@dundaspipesanddrums.org
SUMMARY:Fergus Scottish Festival & Highland Games
DESCRIPTION:The Dundas Pipes and Drums will be competing at the 2024 Fergus Highland Games. The Fergus Scottish Festival & Highland Games is an annual three-day event that celebrates local Scottish heritage and features world-renowned talent and entertainment in the beautiful town of Fergus\, Ontario.
URL:https://dundaspipesanddrums.org/event/fergus-scottish-festival-highland-games/
LOCATION:Centre Wellington Community Sportsplex\, 550 Belsyde Ave. E.\, Fergus\, Ontario\, N1M 3S1\, Canada
END:VEVENT
END:VCALENDAR