BEGIN:VCALENDAR
VERSION:2.0
PRODID:-//Dundas Pipes and Drums - ECPv6.15.5//NONSGML v1.0//EN
CALSCALE:GREGORIAN
METHOD:PUBLISH
X-WR-CALNAME:Dundas Pipes and Drums
X-ORIGINAL-URL:https://dundaspipesanddrums.org
X-WR-CALDESC:Events for Dundas Pipes and Drums
REFRESH-INTERVAL;VALUE=DURATION:PT1H
X-Robots-Tag:noindex
X-PUBLISHED-TTL:PT1H
BEGIN:VTIMEZONE
TZID:America/Toronto
BEGIN:DAYLIGHT
TZOFFSETFROM:-0500
TZOFFSETTO:-0400
TZNAME:EDT
DTSTART:20240310T070000
END:DAYLIGHT
BEGIN:STANDARD
TZOFFSETFROM:-0400
TZOFFSETTO:-0500
TZNAME:EST
DTSTART:20241103T060000
END:STANDARD
END:VTIMEZONE
BEGIN:VEVENT
DTSTART;TZID=America/Toronto:20241110T130000
DTEND;TZID=America/Toronto:20241110T140000
DTSTAMP:20260421T171628
CREATED:20241024T142210Z
LAST-MODIFIED:20241024T150212Z
UID:639-1731243600-1731247200@dundaspipesanddrums.org
SUMMARY:Open House to Commemorate the Royal Canadian Air Force (RCAF) Centennial
DESCRIPTION:The Dundas Pipes and Drums will be performing at the Hamilton Air Force Association’s Open House\, Sunday November 10th at 1pm\, to commemorate the Royal Canadian Air Force Centennial.
URL:https://dundaspipesanddrums.org/event/open-house-to-commemorate-the-royal-canadian-air-force-rcaf-centennial/
LOCATION:Hamilton Air Force Association\, 128 King St E\, Dundas\, Ontario\, L9H 1N5\, Canada
END:VEVENT
END:VCALENDAR