BEGIN:VCALENDAR
VERSION:2.0
PRODID:-//Dundas Pipes and Drums - ECPv6.15.5//NONSGML v1.0//EN
CALSCALE:GREGORIAN
METHOD:PUBLISH
X-ORIGINAL-URL:https://dundaspipesanddrums.org
X-WR-CALDESC:Events for Dundas Pipes and Drums
REFRESH-INTERVAL;VALUE=DURATION:PT1H
X-Robots-Tag:noindex
X-PUBLISHED-TTL:PT1H
BEGIN:VTIMEZONE
TZID:America/Toronto
BEGIN:DAYLIGHT
TZOFFSETFROM:-0500
TZOFFSETTO:-0400
TZNAME:EDT
DTSTART:20240310T070000
END:DAYLIGHT
BEGIN:STANDARD
TZOFFSETFROM:-0400
TZOFFSETTO:-0500
TZNAME:EST
DTSTART:20241103T060000
END:STANDARD
END:VTIMEZONE
BEGIN:VEVENT
DTSTART;TZID=America/Toronto:20241207T140000
DTEND;TZID=America/Toronto:20241207T160000
DTSTAMP:20260421T154825
CREATED:20241024T145505Z
LAST-MODIFIED:20241024T145505Z
UID:657-1733580000-1733587200@dundaspipesanddrums.org
SUMMARY:65th Stoney Creek Santa Claus Parade
DESCRIPTION:Celebrate the Holidays with Dundas Pipes and Drums at the 65th Stoney Creek Santa Claus Parade! \nJoin us for a joyous afternoon on Saturday\, December 7th\, at 2 PM as the Dundas Pipes and Drums proudly march in the 65th Stoney Creek Santa Claus Parade! This cherished tradition promises a festive celebration filled with laughter\, community spirit\, and\, of course\, the magic of the holiday season. \nAs we don our traditional tartan\, we’ll fill the streets with lively tunes that evoke the warmth and joy of Christmas. Gather your family and friends for a delightful day of festive cheer\, as we come together to celebrate this special milestone in the parade’s history. \nDon’t miss out on the fun—let’s make wonderful memories together at the Stoney Creek Santa Claus Parade! 🎅🎶✨ \n 
URL:https://dundaspipesanddrums.org/event/65th-stoney-creek-santa-claus-parade/
LOCATION:Ontario
END:VEVENT
END:VCALENDAR