BEGIN:VCALENDAR
VERSION:2.0
PRODID:-//Dundas Pipes and Drums - ECPv6.15.5//NONSGML v1.0//EN
CALSCALE:GREGORIAN
METHOD:PUBLISH
X-ORIGINAL-URL:https://dundaspipesanddrums.org
X-WR-CALDESC:Events for Dundas Pipes and Drums
REFRESH-INTERVAL;VALUE=DURATION:PT1H
X-Robots-Tag:noindex
X-PUBLISHED-TTL:PT1H
BEGIN:VTIMEZONE
TZID:America/Toronto
BEGIN:DAYLIGHT
TZOFFSETFROM:-0500
TZOFFSETTO:-0400
TZNAME:EDT
DTSTART:20250309T070000
END:DAYLIGHT
BEGIN:STANDARD
TZOFFSETFROM:-0400
TZOFFSETTO:-0500
TZNAME:EST
DTSTART:20251102T060000
END:STANDARD
BEGIN:DAYLIGHT
TZOFFSETFROM:-0500
TZOFFSETTO:-0400
TZNAME:EDT
DTSTART:20260308T070000
END:DAYLIGHT
BEGIN:STANDARD
TZOFFSETFROM:-0400
TZOFFSETTO:-0500
TZNAME:EST
DTSTART:20261101T060000
END:STANDARD
END:VTIMEZONE
BEGIN:VEVENT
DTSTART;TZID=America/Toronto:20251107T190000
DTEND;TZID=America/Toronto:20251107T230000
DTSTAMP:20260421T183859
CREATED:20250923T152705Z
LAST-MODIFIED:20250924T120120Z
UID:701-1762542000-1762556400@dundaspipesanddrums.org
SUMMARY:Celtic Pub Night at The SHED
DESCRIPTION:Join us for a captivating Celtic Pub Night that promises an unforgettable evening of music\, merriment\, and community spirit\, all while supporting the Dundas Pipes & Drums. Nestled in the heart of Dundas\, Ontario\, the Shawn & Ed Brewing Company sets the stage for a lively fundraising event where the rich traditions of Celtic culture come to life. Immerse yourself in the enchanting melodies of Celtic music\, sing along with fellow enthusiasts\, and let your feet tap to the rhythm of spirited dancing. As the night unfolds\, the soul-stirring sound of bagpipes will fill the air\, evoking the very essence of Scotland. Don’t miss this opportunity to celebrate and contribute to a cherished local institution while revelling in the joys of Celtic heritage. \nFeatured Performers: \nDundas Pipes & Drums \nMelyna Foss \nThe Schiehallion Dancers \nThe Celtic Effect Band \n 
URL:https://dundaspipesanddrums.org/event/celtic-kitchen-party-at-the-shed/
LOCATION:Shawn & Ed Brewing Co.\, 65 Hatt St\, Dundas\, Ontario\, Canada
ORGANIZER;CN="Dundas Pipes and Drums":MAILTO:band_manager@dundaspipesanddrums.org
END:VEVENT
BEGIN:VEVENT
DTSTART;TZID=America/Toronto:20260124T190000
DTEND;TZID=America/Toronto:20260124T220000
DTSTAMP:20260421T183859
CREATED:20260113T234507Z
LAST-MODIFIED:20260114T013636Z
UID:716-1769281200-1769292000@dundaspipesanddrums.org
SUMMARY:Ode to Burns: A Celtic Celebration
DESCRIPTION:Join us for “Ode to Burns – A Celtic Celebration!” 🥃🎶 An evening of music\, stories\, and good company\, rooted in Incarnation’s commitment to welcome\, community and fun! Featuring Dundas Pipes & Drums\, Melyna Foss\, Solo Pipers\, Highland Dancers\, and Islay\, a Celtic folk band! 
URL:https://dundaspipesanddrums.org/event/ode-to-burns-a-celtic-celebration/
LOCATION:Church of the Incarnation\, 1240 Old Abbey Lane\, Oakville\, ON\, L6M 3Y4\, Canada
ORGANIZER;CN="Dundas Pipes and Drums":MAILTO:band_manager@dundaspipesanddrums.org
END:VEVENT
BEGIN:VEVENT
DTSTART;TZID=America/Toronto:20260606T090000
DTEND;TZID=America/Toronto:20260606T170000
DTSTAMP:20260421T183859
CREATED:20260114T014527Z
LAST-MODIFIED:20260114T014527Z
UID:719-1780736400-1780765200@dundaspipesanddrums.org
SUMMARY:Hamilton Highland Gathering
DESCRIPTION:The PPBSO has partnered with The Scottish Rite and Hess Village to present an inner-city slate of competitions on the historic grounds of the Scottish Rite.
URL:https://dundaspipesanddrums.org/event/hamilton-highland-gathering/
LOCATION:The Scottish Rite of Hamilton\, 4 Queen Street South\, Hamilton\, ON\, L8P 3R3\, Canada
END:VEVENT
BEGIN:VEVENT
DTSTART;TZID=America/Toronto:20260613T080000
DTEND;TZID=America/Toronto:20260613T170000
DTSTAMP:20260421T183859
CREATED:20260114T014842Z
LAST-MODIFIED:20260114T014842Z
UID:726-1781337600-1781370000@dundaspipesanddrums.org
SUMMARY:Georgetown Highland Games
DESCRIPTION:Celebrating the 51st Anniversary of the annual Georgetown Highland Games.
URL:https://dundaspipesanddrums.org/event/georgetown-highland-games-2/
LOCATION:Georgetown Fairgrounds\, 1 Park Ave\, Halton Hills\, Ontario\, L7G 3H9\, Canada
END:VEVENT
BEGIN:VEVENT
DTSTART;TZID=America/Toronto:20260620T080000
DTEND;TZID=America/Toronto:20260620T170000
DTSTAMP:20260421T183859
CREATED:20260114T015356Z
LAST-MODIFIED:20260114T015356Z
UID:728-1781942400-1781974800@dundaspipesanddrums.org
SUMMARY:Northumberland Highland Games
DESCRIPTION:The 62nd Northumberland Scottish Festival and Highland Games.
URL:https://dundaspipesanddrums.org/event/northumberland-highland-games/
LOCATION:Port Hope Agricultural Park\, 62 McCaul St\, Port Hope\, ON\, L1A 1L2\, Canada
END:VEVENT
BEGIN:VEVENT
DTSTART;TZID=America/Toronto:20260704T080000
DTEND;TZID=America/Toronto:20260704T170000
DTSTAMP:20260421T183859
CREATED:20260114T020816Z
LAST-MODIFIED:20260114T020816Z
UID:734-1783152000-1783184400@dundaspipesanddrums.org
SUMMARY:Kincardine Scottish Festival & Highland Games
DESCRIPTION:The festival aims to preserve\, enhance\, and celebrate Kincardine’s Scottish roots. Enjoy three days and nights of lively music\, exciting competitions\, cultural workshops\, and friendly small-town hospitality. Cheer on your favourite Highland athletes and dancers\, trace out your ancestry\, and enjoy the sights and sounds of over 30 Scottish pipe bands from across Canada and the United States. \nLocated in Victoria Park and the surrounding area\, the festival is in the heart of Kincardine\, and we encourage you to experience the beauty and hospitality the town has to offer during your visit.
URL:https://dundaspipesanddrums.org/event/kincardine-scottish-festival-highland-games/
LOCATION:Kincardine Scottish Festival and Highland Games\, 310 Durham Market Street N\, Kincardine\, ON\, N2Z1Z9\, Canada
END:VEVENT
BEGIN:VEVENT
DTSTART;TZID=America/Toronto:20260718T080000
DTEND;TZID=America/Toronto:20260718T170000
DTSTAMP:20260421T183859
CREATED:20260114T021049Z
LAST-MODIFIED:20260114T021049Z
UID:737-1784361600-1784394000@dundaspipesanddrums.org
SUMMARY:Cambridge Scottish Festival
DESCRIPTION:Join us once again for an exciting event celebrating Scottish culture and heritage.
URL:https://dundaspipesanddrums.org/event/cambridge-scottish-festival/
LOCATION:Churchill Park\, 200 Christopher Dr\, Cambridge\, Ontario\, N1R 8K7\, Canada
END:VEVENT
BEGIN:VEVENT
DTSTART;TZID=America/Toronto:20260808T080000
DTEND;TZID=America/Toronto:20260808T170000
DTSTAMP:20260421T183859
CREATED:20260114T021235Z
LAST-MODIFIED:20260114T021235Z
UID:739-1786176000-1786208400@dundaspipesanddrums.org
SUMMARY:The Fergus Scottish Festival & Highland Games
DESCRIPTION:The Fergus Scottish Festival & Highland Games is an annual three-day event that celebrates local Scottish heritage and features world-renowned talent and entertainment in the beautiful town of Fergus\, Ontario. This year’s Festival features Heavy Events Competitions\, Pipe Band Competitions\, Highland Dancers\, over 50 Clans\, Heritage Village\, Whisky Tasting\, McKiddie’s activities\, Celtic musicians and international vendors featuring Scottish wares and fares!
URL:https://dundaspipesanddrums.org/event/the-fergus-scottish-festival-highland-games/
LOCATION:Centre Wellington Community Sportsplex\, 550 Belsyde Ave. E.\, Fergus\, Ontario\, N1M 3S1\, Canada
END:VEVENT
END:VCALENDAR