BEGIN:VCALENDAR
VERSION:2.0
PRODID:-//Dundas Pipes and Drums - ECPv6.15.5//NONSGML v1.0//EN
CALSCALE:GREGORIAN
METHOD:PUBLISH
X-WR-CALNAME:Dundas Pipes and Drums
X-ORIGINAL-URL:https://dundaspipesanddrums.org
X-WR-CALDESC:Events for Dundas Pipes and Drums
REFRESH-INTERVAL;VALUE=DURATION:PT1H
X-Robots-Tag:noindex
X-PUBLISHED-TTL:PT1H
BEGIN:VTIMEZONE
TZID:America/Toronto
BEGIN:DAYLIGHT
TZOFFSETFROM:-0500
TZOFFSETTO:-0400
TZNAME:EDT
DTSTART:20180311T070000
END:DAYLIGHT
BEGIN:STANDARD
TZOFFSETFROM:-0400
TZOFFSETTO:-0500
TZNAME:EST
DTSTART:20181104T060000
END:STANDARD
END:VTIMEZONE
BEGIN:VEVENT
DTSTART;TZID=America/Toronto:20180923T120000
DTEND;TZID=America/Toronto:20180923T140000
DTSTAMP:20260421T101429
CREATED:20180806T232431Z
LAST-MODIFIED:20180806T232431Z
UID:198-1537704000-1537711200@dundaspipesanddrums.org
SUMMARY:Band Recruitment Open House
DESCRIPTION:This event is primarily for those who wish to learn to play the pipes or drums and join the band.  It is an opportunity to see a lesson in progress\, speak with our instructors and students\, and have any of your questions answered as to receiving free instruction.  Our aim is to teach all students so that they can join us on parade and be part of the Dundas tradition
URL:https://dundaspipesanddrums.org/event/band-recruitment-open-house/
ORGANIZER;CN="Dundas Pipe Band":MAILTO:kgriffin8@cogeco.ca
END:VEVENT
BEGIN:VEVENT
DTSTART;TZID=America/Toronto:20180916T130000
DTEND;TZID=America/Toronto:20180916T170000
DTSTAMP:20260421T101429
CREATED:20180806T231837Z
LAST-MODIFIED:20180806T231837Z
UID:196-1537102800-1537117200@dundaspipesanddrums.org
SUMMARY:Sept 16th - Guelph Scottish Festival
DESCRIPTION:
URL:https://dundaspipesanddrums.org/event/sept-16th-guelph-scottish-festival/
END:VEVENT
BEGIN:VEVENT
DTSTART;TZID=America/Toronto:20180816T080000
DTEND;TZID=America/Toronto:20180816T120000
DTSTAMP:20260421T101429
CREATED:20180422T124107Z
LAST-MODIFIED:20180422T124107Z
UID:179-1534406400-1534420800@dundaspipesanddrums.org
SUMMARY:Cactus Festival
DESCRIPTION:
URL:https://dundaspipesanddrums.org/event/cactus-festival/
END:VEVENT
BEGIN:VEVENT
DTSTART;TZID=America/Toronto:20180717T200000
DTEND;TZID=America/Toronto:20180717T202000
DTSTAMP:20260421T101429
CREATED:20180619T221404Z
LAST-MODIFIED:20180619T221404Z
UID:189-1531857600-1531858800@dundaspipesanddrums.org
SUMMARY:Concert - Dundas Driving Park
DESCRIPTION:
URL:https://dundaspipesanddrums.org/event/concert-dundas-driving-park/
LOCATION:Dundas Driving Park
END:VEVENT
BEGIN:VEVENT
DTSTART;TZID=America/Toronto:20180603T100000
DTEND;TZID=America/Toronto:20180603T113000
DTSTAMP:20260421T101429
CREATED:20180416T142222Z
LAST-MODIFIED:20180422T124816Z
UID:169-1528020000-1528025400@dundaspipesanddrums.org
SUMMARY:Dundas Legion Church Parade
DESCRIPTION:
URL:https://dundaspipesanddrums.org/event/dundas-legion-church-parade/
END:VEVENT
END:VCALENDAR