BEGIN:VCALENDAR
VERSION:2.0
PRODID:-//Dundas Pipes and Drums - ECPv6.15.5//NONSGML v1.0//EN
CALSCALE:GREGORIAN
METHOD:PUBLISH
X-WR-CALNAME:Dundas Pipes and Drums
X-ORIGINAL-URL:https://dundaspipesanddrums.org
X-WR-CALDESC:Events for Dundas Pipes and Drums
REFRESH-INTERVAL;VALUE=DURATION:PT1H
X-Robots-Tag:noindex
X-PUBLISHED-TTL:PT1H
BEGIN:VTIMEZONE
TZID:America/Toronto
BEGIN:DAYLIGHT
TZOFFSETFROM:-0500
TZOFFSETTO:-0400
TZNAME:EDT
DTSTART:20220313T070000
END:DAYLIGHT
BEGIN:STANDARD
TZOFFSETFROM:-0400
TZOFFSETTO:-0500
TZNAME:EST
DTSTART:20221106T060000
END:STANDARD
BEGIN:DAYLIGHT
TZOFFSETFROM:-0500
TZOFFSETTO:-0400
TZNAME:EDT
DTSTART:20230312T070000
END:DAYLIGHT
BEGIN:STANDARD
TZOFFSETFROM:-0400
TZOFFSETTO:-0500
TZNAME:EST
DTSTART:20231105T060000
END:STANDARD
END:VTIMEZONE
BEGIN:VEVENT
DTSTART;TZID=America/Toronto:20231203T140000
DTEND;TZID=America/Toronto:20231203T153000
DTSTAMP:20260420T234443
CREATED:20231005T132209Z
LAST-MODIFIED:20231005T132209Z
UID:429-1701612000-1701617400@dundaspipesanddrums.org
SUMMARY:Stoney Creek Santa Parade
DESCRIPTION:Parade through Stoney Creek to welcome Santa.
URL:https://dundaspipesanddrums.org/event/stoney-creek-santa-parade-3/
LOCATION:Ontario
END:VEVENT
BEGIN:VEVENT
DTSTART;TZID=America/Toronto:20231125T183000
DTEND;TZID=America/Toronto:20231125T200000
DTSTAMP:20260420T234443
CREATED:20231005T132109Z
LAST-MODIFIED:20231005T132109Z
UID:427-1700937000-1700942400@dundaspipesanddrums.org
SUMMARY:Flamborough Santa Parade
DESCRIPTION:Parade through the core of Waterdown to welcome Santa.  If you have never been to a Santa Parade\, this is the one to see.  Thousands of lights\, floats\, bands and community spirit.
URL:https://dundaspipesanddrums.org/event/flamborough-santa-parade-3/
LOCATION:Ontario
END:VEVENT
BEGIN:VEVENT
DTSTART;TZID=America/Toronto:20231125T110000
DTEND;TZID=America/Toronto:20231125T123000
DTSTAMP:20260420T234443
CREATED:20231005T131748Z
LAST-MODIFIED:20231005T131748Z
UID:425-1700910000-1700915400@dundaspipesanddrums.org
SUMMARY:Caledonia Santa Parade
DESCRIPTION:Parade though downtown Caledonia to welcome Santa.  Step off is 11:00
URL:https://dundaspipesanddrums.org/event/caledonia-santa-parade-2/
LOCATION:Ontario
END:VEVENT
BEGIN:VEVENT
DTSTART;TZID=America/Toronto:20231118T080000
DTEND;TZID=America/Toronto:20231118T120000
DTSTAMP:20260420T234443
CREATED:20231005T131537Z
LAST-MODIFIED:20231005T131537Z
UID:423-1700294400-1700308800@dundaspipesanddrums.org
SUMMARY:Spirit of Edmonton Breakfast
DESCRIPTION:The Dundas Pipes and Drums will participate in the Spirit of Edmonton Breakfast as part of the Grey Cup celebrations.
URL:https://dundaspipesanddrums.org/event/spirit-of-edmonton-breakfast/
LOCATION:Ontario
END:VEVENT
BEGIN:VEVENT
DTSTART;TZID=America/Toronto:20231112T150000
DTEND;TZID=America/Toronto:20231112T163000
DTSTAMP:20260420T234443
CREATED:20231005T131044Z
LAST-MODIFIED:20231005T131044Z
UID:421-1699801200-1699806600@dundaspipesanddrums.org
SUMMARY:Dundas Valley Orchestra
DESCRIPTION:The DVO joins with Chorus Hamilton and its Artistic Director David Holler\, St. Paul’s Minister of Music Fredric Devries\, soprano Ariel Harwood Jones\, baritone Adam Kuiack and the Dundas Pipes and Drums for a Remembrance Day weekend performance of Fauré’s Requiem and other moving selections. Supported by the Dougher Community Fund.
URL:https://dundaspipesanddrums.org/event/dundas-valley-orchestra/
LOCATION:Ontario
END:VEVENT
BEGIN:VEVENT
DTSTART;TZID=America/Toronto:20231111T103000
DTEND;TZID=America/Toronto:20231111T113000
DTSTAMP:20260420T234443
CREATED:20231005T130544Z
LAST-MODIFIED:20231005T130544Z
UID:419-1699698600-1699702200@dundaspipesanddrums.org
SUMMARY:Remembrance Day Parade
DESCRIPTION:Annual Remembrance Day Parade from Memorial Square to the Cenotaph.  Step off is 10:30.
URL:https://dundaspipesanddrums.org/event/remembrance-day-parade-2/
LOCATION:Ontario
END:VEVENT
BEGIN:VEVENT
DTSTART;TZID=America/Toronto:20231103T190000
DTEND;TZID=America/Toronto:20231103T230000
DTSTAMP:20260420T234443
CREATED:20231004T211920Z
LAST-MODIFIED:20231004T211920Z
UID:410-1699038000-1699052400@dundaspipesanddrums.org
SUMMARY:Celtic Pub Night
DESCRIPTION:This is a Celtic Kitchen party featuring the Dundas Pipes and Drums as well as:  a Celtic singer\, dancers\, fiddler\, small pipes\, Irish pipes and a few surprises. \nFood is available from Shawn & Eds menu.  Try the pizza; it is fabulous!
URL:https://dundaspipesanddrums.org/event/celtic-pub-night/
LOCATION:Ontario
END:VEVENT
BEGIN:VEVENT
DTSTART;TZID=America/Toronto:20231028T104500
DTEND;TZID=America/Toronto:20231028T140000
DTSTAMP:20260420T234443
CREATED:20231004T212503Z
LAST-MODIFIED:20231004T212503Z
UID:416-1698489900-1698501600@dundaspipesanddrums.org
SUMMARY:Dundas Scarecrow March
DESCRIPTION:At 10:45 a.m.\, kids of all ages are invited to meet at Eccles Auto Service\, 121 King St. W.\, to join the annual costume parade led by the Dundas Pipes and Drums down King Street to Grafton Square\, where Jude Johnson will perform from 11 a.m. to 2 p.m.
URL:https://dundaspipesanddrums.org/event/dundas-scarecrow-march/
LOCATION:Ontario
END:VEVENT
BEGIN:VEVENT
DTSTART;TZID=America/Toronto:20230819T120000
DTEND;TZID=America/Toronto:20230819T130000
DTSTAMP:20260420T234443
CREATED:20230620T212415Z
LAST-MODIFIED:20230620T212415Z
UID:389-1692446400-1692450000@dundaspipesanddrums.org
SUMMARY:Cactus Festival Concert
DESCRIPTION:The band will play a 45 minute concert as part of the Cactus Festival.  The event is on the main stage at Memorial Square and is free for all.
URL:https://dundaspipesanddrums.org/event/cactus-festival-concert/
LOCATION:Ontario
END:VEVENT
BEGIN:VEVENT
DTSTART;TZID=America/Toronto:20230817T183000
DTEND;TZID=America/Toronto:20230817T193000
DTSTAMP:20260420T234443
CREATED:20230620T212011Z
LAST-MODIFIED:20230620T212011Z
UID:385-1692297000-1692300600@dundaspipesanddrums.org
SUMMARY:Cactus Parade
DESCRIPTION:The band will lead off the Cactus Parade as part of a Massed Band along with Grimsby Pipes and Drums and Legion 163 Pipes and Drums.
URL:https://dundaspipesanddrums.org/event/cactus-parade/
LOCATION:Ontario
END:VEVENT
BEGIN:VEVENT
DTSTART;TZID=America/Toronto:20230711T193000
DTEND;TZID=America/Toronto:20230711T193000
DTSTAMP:20260420T234443
CREATED:20230620T212228Z
LAST-MODIFIED:20230620T212228Z
UID:387-1689103800-1689103800@dundaspipesanddrums.org
SUMMARY:Concert in the Park
DESCRIPTION:The Dundas Pipes and Drums will be part of the Dundas Concert Band’s evening concert.  The band will play a 15 minute set at approx. 8:00.  The event takes place in the Dundas Driving Park and is free to all.
URL:https://dundaspipesanddrums.org/event/concert-in-the-park/
LOCATION:Ontario
END:VEVENT
BEGIN:VEVENT
DTSTART;TZID=America/Toronto:20230701T120000
DTEND;TZID=America/Toronto:20230701T123000
DTSTAMP:20260420T234443
CREATED:20230620T211839Z
LAST-MODIFIED:20230630T002202Z
UID:383-1688212800-1688214600@dundaspipesanddrums.org
SUMMARY:It's Your Festival
DESCRIPTION:It’s Your Festival will be held in Gage Park in Hamilton.  The band will play a half-hour set at the band shell at noon\, then be in the parade that opens the event at 1:00.
URL:https://dundaspipesanddrums.org/event/its-your-festival/
LOCATION:Ontario
END:VEVENT
BEGIN:VEVENT
DTSTART;TZID=America/Toronto:20230624T120000
DTEND;TZID=America/Toronto:20230624T150000
DTSTAMP:20260420T234443
CREATED:20230620T211450Z
LAST-MODIFIED:20230620T211450Z
UID:377-1687608000-1687618800@dundaspipesanddrums.org
SUMMARY:All Things Scottish
DESCRIPTION:Grace Anglican Church in Waterdown is hosting an All Things Scottish Festival.  This is a free event for the community.  The band will open the Festival at 12:00 noon with a short set of Scottish music.
URL:https://dundaspipesanddrums.org/event/all-things-scottish/
LOCATION:Ontario
END:VEVENT
BEGIN:VEVENT
DTSTART;TZID=America/Toronto:20230618T130000
DTEND;TZID=America/Toronto:20230618T140000
DTSTAMP:20260420T234443
CREATED:20230620T211613Z
LAST-MODIFIED:20230620T223444Z
UID:380-1687093200-1687096800@dundaspipesanddrums.org
SUMMARY:Welland Rose Festival Parade
DESCRIPTION:Welland Rose Festival Parade.  The band will be part of a Massed Pipes and Drums to lead off the parade.
URL:https://dundaspipesanddrums.org/event/380/
LOCATION:Ontario
END:VEVENT
BEGIN:VEVENT
DTSTART;TZID=America/Toronto:20230610T110000
DTEND;TZID=America/Toronto:20230610T120000
DTSTAMP:20260420T234443
CREATED:20230620T221832Z
LAST-MODIFIED:20230620T221832Z
UID:391-1686394800-1686398400@dundaspipesanddrums.org
SUMMARY:Ancaster Heritage Day Parade
DESCRIPTION:The band will be a part of the Ancaster Heritage Day Parade.
URL:https://dundaspipesanddrums.org/event/ancaster-heritage-day-parade/
LOCATION:Ontario
END:VEVENT
BEGIN:VEVENT
DTSTART;TZID=America/Toronto:20230531T120000
DTEND;TZID=America/Toronto:20230531T160000
DTSTAMP:20260420T234443
CREATED:20230620T222612Z
LAST-MODIFIED:20230620T222612Z
UID:393-1685534400-1685548800@dundaspipesanddrums.org
SUMMARY:St. Joseph's Villa Picnic
DESCRIPTION:We will be a part of the opening ceremonies for the House of Providence Picnic.
URL:https://dundaspipesanddrums.org/event/st-josephs-villa-picnic/
LOCATION:Ontario
END:VEVENT
BEGIN:VEVENT
DTSTART;TZID=America/Toronto:20230417T193000
DTEND;TZID=America/Toronto:20230417T193000
DTSTAMP:20260420T234443
CREATED:20230620T222724Z
LAST-MODIFIED:20230620T222724Z
UID:395-1681759800-1681759800@dundaspipesanddrums.org
SUMMARY:Allan Cup Opening Ceremonies
DESCRIPTION:We will be a part of the opening ceremonies for the Allan Cup.
URL:https://dundaspipesanddrums.org/event/allan-cup-opening-ceremonies/
LOCATION:Ontario
END:VEVENT
BEGIN:VEVENT
DTSTART;TZID=America/Toronto:20230319T101500
DTEND;TZID=America/Toronto:20230319T113000
DTSTAMP:20260420T234443
CREATED:20230314T172340Z
LAST-MODIFIED:20230314T172340Z
UID:373-1679220900-1679225400@dundaspipesanddrums.org
SUMMARY:Band Concerts
DESCRIPTION:The Band will perform two – 30 minute concerts as part of the St. Patrick’s Day celebrations  at the Wellington Place Retirement Home.  Note: this concert is for residents and their guests.  A covid test is required before entry to the home. \n 
URL:https://dundaspipesanddrums.org/event/band-concerts/
LOCATION:Wellington Place\, The Wellington - 1430 Upper Wellington Street\, Hamilton
END:VEVENT
BEGIN:VEVENT
DTSTART;TZID=America/Toronto:20230319T100000
DTEND;TZID=America/Toronto:20230319T113000
DTSTAMP:20260420T234443
CREATED:20230620T223253Z
LAST-MODIFIED:20230620T223253Z
UID:399-1679220000-1679225400@dundaspipesanddrums.org
SUMMARY:Wellington Place Concert
DESCRIPTION:We will play two concerts at the Wellington Place Seniors’ Residence.  This is a closed event.
URL:https://dundaspipesanddrums.org/event/wellington-place-concert/
LOCATION:Ontario
END:VEVENT
BEGIN:VEVENT
DTSTART;TZID=America/Toronto:20230317T200000
DTEND;TZID=America/Toronto:20230317T210000
DTSTAMP:20260420T234443
CREATED:20230620T222932Z
LAST-MODIFIED:20230620T222932Z
UID:397-1679083200-1679086800@dundaspipesanddrums.org
SUMMARY:St. Patrick's Day Pub Crawl
DESCRIPTION:The band will play at: The Thirsty Cactus\, The Shed and The Winchester Arms.  Times will vary but we will begin at the Shed at 8:00.
URL:https://dundaspipesanddrums.org/event/st-patricks-day-pub-crawl/
LOCATION:Ontario
END:VEVENT
BEGIN:VEVENT
DTSTART;TZID=America/Toronto:20230317T190000
DTEND;TZID=America/Toronto:20230317T203000
DTSTAMP:20260420T234443
CREATED:20230314T171740Z
LAST-MODIFIED:20230314T171740Z
UID:370-1679079600-1679085000@dundaspipesanddrums.org
SUMMARY:Pub Crawl
DESCRIPTION:The band will play a mini-set at various venues (the Shed\, Thirsty Cactus\, Winchester Arms) in Dundas on St. Patrick’s Day between 7:00 and 8:00 pm.
URL:https://dundaspipesanddrums.org/event/pub-crawl/
LOCATION:vaious locations
END:VEVENT
BEGIN:VEVENT
DTSTART;TZID=America/Toronto:20230205T103000
DTEND;TZID=America/Toronto:20230205T140000
DTSTAMP:20260420T234443
CREATED:20230112T215554Z
LAST-MODIFIED:20230112T215627Z
UID:363-1675593000-1675605600@dundaspipesanddrums.org
SUMMARY:Seminar by Ken Eller - Setting Up and Maintaining Pipes for Optimal Performance
DESCRIPTION:
URL:https://dundaspipesanddrums.org/event/seminar-blowing-tone/
LOCATION:Dundas Town Hall
END:VEVENT
BEGIN:VEVENT
DTSTART;TZID=America/Toronto:20230125T183000
DTEND;TZID=America/Toronto:20230125T200000
DTSTAMP:20260420T234443
CREATED:20230112T214159Z
LAST-MODIFIED:20230112T221341Z
UID:359-1674671400-1674676800@dundaspipesanddrums.org
SUMMARY:Burns' Night at the Shed 65 Hatt St. Dundas
DESCRIPTION:
URL:https://dundaspipesanddrums.org/event/burns-night-at-the-shed-65-hatt-st-dundas/
LOCATION:Ontario
END:VEVENT
BEGIN:VEVENT
DTSTART;TZID=America/Toronto:20230111T190000
DTEND;TZID=America/Toronto:20230111T210000
DTSTAMP:20260420T234443
CREATED:20230112T214847Z
LAST-MODIFIED:20230112T214847Z
UID:361-1673463600-1673470800@dundaspipesanddrums.org
SUMMARY:Practices Resume
DESCRIPTION:
URL:https://dundaspipesanddrums.org/event/practices-resume-3/
LOCATION:Ontario
END:VEVENT
BEGIN:VEVENT
DTSTART;TZID=America/Toronto:20230111T190000
DTEND;TZID=America/Toronto:20230111T210000
DTSTAMP:20260420T234443
CREATED:20230112T213224Z
LAST-MODIFIED:20230112T213224Z
UID:357-1673463600-1673470800@dundaspipesanddrums.org
SUMMARY:Practices Resume
DESCRIPTION:
URL:https://dundaspipesanddrums.org/event/practices-resume-2/
LOCATION:Ontario
END:VEVENT
BEGIN:VEVENT
DTSTART;TZID=America/Toronto:20221203T140000
DTEND;TZID=America/Toronto:20221203T153000
DTSTAMP:20260420T234443
CREATED:20221117T182750Z
LAST-MODIFIED:20221117T182750Z
UID:354-1670076000-1670081400@dundaspipesanddrums.org
SUMMARY:Stoney Creek Santa Parade
DESCRIPTION:
URL:https://dundaspipesanddrums.org/event/stoney-creek-santa-parade-2/
LOCATION:Ontario
END:VEVENT
BEGIN:VEVENT
DTSTART;TZID=America/Toronto:20221126T183000
DTEND;TZID=America/Toronto:20221126T200000
DTSTAMP:20260420T234443
CREATED:20221117T182650Z
LAST-MODIFIED:20221117T182650Z
UID:352-1669487400-1669492800@dundaspipesanddrums.org
SUMMARY:Flamborough Santa Parade
DESCRIPTION:
URL:https://dundaspipesanddrums.org/event/flamborough-santa-parade-2/
LOCATION:Ontario
END:VEVENT
BEGIN:VEVENT
DTSTART;TZID=America/Toronto:20221126T110000
DTEND;TZID=America/Toronto:20221126T123000
DTSTAMP:20260420T234443
CREATED:20221117T182602Z
LAST-MODIFIED:20221117T182602Z
UID:350-1669460400-1669465800@dundaspipesanddrums.org
SUMMARY:Caledonia Santa Parade
DESCRIPTION:
URL:https://dundaspipesanddrums.org/event/caledonia-santa-parade/
LOCATION:Ontario
END:VEVENT
BEGIN:VEVENT
DTSTART;TZID=America/Toronto:20221119T180000
DTEND;TZID=America/Toronto:20221119T193000
DTSTAMP:20260420T234443
CREATED:20221117T182433Z
LAST-MODIFIED:20221117T182433Z
UID:346-1668880800-1668886200@dundaspipesanddrums.org
SUMMARY:Hamilton Santa Parade
DESCRIPTION:
URL:https://dundaspipesanddrums.org/event/hamilton-santa-parade-2/
LOCATION:Ontario
END:VEVENT
BEGIN:VEVENT
DTSTART;TZID=America/Toronto:20221111T103000
DTEND;TZID=America/Toronto:20221111T113000
DTSTAMP:20260420T234443
CREATED:20221117T182518Z
LAST-MODIFIED:20221117T182518Z
UID:348-1668162600-1668166200@dundaspipesanddrums.org
SUMMARY:Remembrance Day Parade - Dundas
DESCRIPTION:
URL:https://dundaspipesanddrums.org/event/remembrance-day-parade-dundas/
LOCATION:Ontario
END:VEVENT
END:VCALENDAR