BEGIN:VCALENDAR
VERSION:2.0
PRODID:-//Dundas Pipes and Drums - ECPv6.15.5//NONSGML v1.0//EN
CALSCALE:GREGORIAN
METHOD:PUBLISH
X-WR-CALNAME:Dundas Pipes and Drums
X-ORIGINAL-URL:https://dundaspipesanddrums.org
X-WR-CALDESC:Events for Dundas Pipes and Drums
REFRESH-INTERVAL;VALUE=DURATION:PT1H
X-Robots-Tag:noindex
X-PUBLISHED-TTL:PT1H
BEGIN:VTIMEZONE
TZID:America/Toronto
BEGIN:DAYLIGHT
TZOFFSETFROM:-0500
TZOFFSETTO:-0400
TZNAME:EDT
DTSTART:20180311T070000
END:DAYLIGHT
BEGIN:STANDARD
TZOFFSETFROM:-0400
TZOFFSETTO:-0500
TZNAME:EST
DTSTART:20181104T060000
END:STANDARD
BEGIN:DAYLIGHT
TZOFFSETFROM:-0500
TZOFFSETTO:-0400
TZNAME:EDT
DTSTART:20190310T070000
END:DAYLIGHT
BEGIN:STANDARD
TZOFFSETFROM:-0400
TZOFFSETTO:-0500
TZNAME:EST
DTSTART:20191103T060000
END:STANDARD
BEGIN:DAYLIGHT
TZOFFSETFROM:-0500
TZOFFSETTO:-0400
TZNAME:EDT
DTSTART:20200308T070000
END:DAYLIGHT
BEGIN:STANDARD
TZOFFSETFROM:-0400
TZOFFSETTO:-0500
TZNAME:EST
DTSTART:20201101T060000
END:STANDARD
BEGIN:DAYLIGHT
TZOFFSETFROM:-0500
TZOFFSETTO:-0400
TZNAME:EDT
DTSTART:20210314T070000
END:DAYLIGHT
BEGIN:STANDARD
TZOFFSETFROM:-0400
TZOFFSETTO:-0500
TZNAME:EST
DTSTART:20211107T060000
END:STANDARD
BEGIN:DAYLIGHT
TZOFFSETFROM:-0500
TZOFFSETTO:-0400
TZNAME:EDT
DTSTART:20220313T070000
END:DAYLIGHT
BEGIN:STANDARD
TZOFFSETFROM:-0400
TZOFFSETTO:-0500
TZNAME:EST
DTSTART:20221106T060000
END:STANDARD
END:VTIMEZONE
BEGIN:VEVENT
DTSTART;TZID=America/Toronto:20221005T190000
DTEND;TZID=America/Toronto:20221005T210000
DTSTAMP:20260421T014301
CREATED:20220905T184130Z
LAST-MODIFIED:20220905T184130Z
UID:340-1664996400-1665003600@dundaspipesanddrums.org
SUMMARY:Annual General Meeting
DESCRIPTION:AGM for band members.
URL:https://dundaspipesanddrums.org/event/annual-general-meeting-3/
LOCATION:Dundas Town Hall
END:VEVENT
BEGIN:VEVENT
DTSTART;TZID=America/Toronto:20220925T110000
DTEND;TZID=America/Toronto:20220925T130000
DTSTAMP:20260421T014301
CREATED:20220905T184622Z
LAST-MODIFIED:20220905T184622Z
UID:343-1664103600-1664110800@dundaspipesanddrums.org
SUMMARY:Practice Time change over
DESCRIPTION:As agreed upon at the Aug 31 general meeting we will switch the instructional portion of band practice (Jamie Connolly) to Sundays.  Student lessons 10-11.  Band practice and instruction 11-1;  11 – 12 on pipes\, 12 – 1 on chanters. \nWednesdays will be from 7-9 as usual with the first hour used for student lessons and / or chanter work with the second hour on pipes.
URL:https://dundaspipesanddrums.org/event/practice-time-change-over/
END:VEVENT
BEGIN:VEVENT
DTSTART;TZID=America/Toronto:20220911T110000
DTEND;TZID=America/Toronto:20220911T140000
DTSTAMP:20260421T014301
CREATED:20220801T150629Z
LAST-MODIFIED:20220905T183812Z
UID:332-1662894000-1662904800@dundaspipesanddrums.org
SUMMARY:Recruitment Open House
DESCRIPTION:This is an Open House – information and registration session for those interested in learning to play the pipes or drums – ages 12 and up.  Lessons are free and details re: lesson times\, location and required equipment (minimal cost) will be provided.
URL:https://dundaspipesanddrums.org/event/recruitment-open-house/
ORGANIZER;CN="Dundas Pipes and Drums":MAILTO:band_manager@dundaspipesanddrums.org
END:VEVENT
BEGIN:VEVENT
DTSTART;TZID=America/Toronto:20220818T183000
DTEND;TZID=America/Toronto:20220818T203000
DTSTAMP:20260421T014301
CREATED:20220602T204742Z
LAST-MODIFIED:20220615T193227Z
UID:320-1660847400-1660854600@dundaspipesanddrums.org
SUMMARY:Dundas Cactus Parade - confirmed
DESCRIPTION:
URL:https://dundaspipesanddrums.org/event/dundas-cactus-parade-tentative/
END:VEVENT
BEGIN:VEVENT
DTSTART;TZID=America/Toronto:20220712T190000
DTEND;TZID=America/Toronto:20220712T200000
DTSTAMP:20260421T014301
CREATED:20220602T204631Z
LAST-MODIFIED:20220615T193316Z
UID:318-1657652400-1657656000@dundaspipesanddrums.org
SUMMARY:Driving Park Concert - confirmed
DESCRIPTION:
URL:https://dundaspipesanddrums.org/event/driving-park-concert-tentative/
END:VEVENT
BEGIN:VEVENT
DTSTART;TZID=America/Toronto:20220701T100000
DTEND;TZID=America/Toronto:20220701T130000
DTSTAMP:20260421T014301
CREATED:20220602T204517Z
LAST-MODIFIED:20220602T204517Z
UID:316-1656669600-1656680400@dundaspipesanddrums.org
SUMMARY:Niagara Falls Canada Day Parade
DESCRIPTION:
URL:https://dundaspipesanddrums.org/event/niagara-falls-canada-day-parade/
END:VEVENT
BEGIN:VEVENT
DTSTART;TZID=America/Toronto:20220619T110000
DTEND;TZID=America/Toronto:20220619T140000
DTSTAMP:20260421T014301
CREATED:20220602T204420Z
LAST-MODIFIED:20220602T204420Z
UID:314-1655636400-1655647200@dundaspipesanddrums.org
SUMMARY:Welland Rose Festival Parade
DESCRIPTION:
URL:https://dundaspipesanddrums.org/event/welland-rose-festival-parade/
END:VEVENT
BEGIN:VEVENT
DTSTART;TZID=America/Toronto:20220602T213500
DTEND;TZID=America/Toronto:20220602T214000
DTSTAMP:20260421T014301
CREATED:20220602T205040Z
LAST-MODIFIED:20220602T205040Z
UID:322-1654205700-1654206000@dundaspipesanddrums.org
SUMMARY:Queen's Jubilee - pipers playing of Dir Regnare
DESCRIPTION:
URL:https://dundaspipesanddrums.org/event/queens-jubilee-pipers-playing-of-dir-regnare/
LOCATION:vaious locations
END:VEVENT
BEGIN:VEVENT
DTSTART;TZID=America/Toronto:20220601T190000
DTEND;TZID=America/Toronto:20220601T210000
DTSTAMP:20260421T014301
CREATED:20220602T204258Z
LAST-MODIFIED:20220602T204258Z
UID:312-1654110000-1654117200@dundaspipesanddrums.org
SUMMARY:Practice returns to the Town Hall
DESCRIPTION:
URL:https://dundaspipesanddrums.org/event/practice-returns-to-the-town-hall/
END:VEVENT
BEGIN:VEVENT
DTSTART;TZID=America/Toronto:20220313T140000
DTEND;TZID=America/Toronto:20220313T150000
DTSTAMP:20260421T014301
CREATED:20220309T212810Z
LAST-MODIFIED:20220309T212810Z
UID:307-1647180000-1647183600@dundaspipesanddrums.org
SUMMARY:Concert
DESCRIPTION:
URL:https://dundaspipesanddrums.org/event/concert/
END:VEVENT
BEGIN:VEVENT
DTSTART;TZID=America/Toronto:20211211T093000
DTEND;TZID=America/Toronto:20211211T120000
DTSTAMP:20260421T014301
CREATED:20211122T203033Z
LAST-MODIFIED:20211122T203033Z
UID:298-1639215000-1639224000@dundaspipesanddrums.org
SUMMARY:Grey Cup Breakfast
DESCRIPTION:We are honoured to be part of the annual Grey Cup breakfast.  This year it will be held on Dec 11th in Hamilton.  This event is by reservation only.
URL:https://dundaspipesanddrums.org/event/grey-cup-breakfast/
END:VEVENT
BEGIN:VEVENT
DTSTART;TZID=America/Toronto:20211006T190000
DTEND;TZID=America/Toronto:20211006T210000
DTSTAMP:20260421T014301
CREATED:20210923T202109Z
LAST-MODIFIED:20210923T202109Z
UID:295-1633546800-1633554000@dundaspipesanddrums.org
SUMMARY:Annual General Meeting
DESCRIPTION:
URL:https://dundaspipesanddrums.org/event/annual-general-meeting-2/
END:VEVENT
BEGIN:VEVENT
DTSTART;TZID=America/Toronto:20200508T150000
DTEND;TZID=America/Toronto:20200508T153000
DTSTAMP:20260421T014301
CREATED:20200226T203322Z
LAST-MODIFIED:20200226T203322Z
UID:286-1588950000-1588951800@dundaspipesanddrums.org
SUMMARY:VE 75 Celebration
DESCRIPTION:As part of a global celebration\, available members of the band will play two tunes in honour of the 75th anniversary of VE Day; “VE75” a tune written especially for the occasion\, and “The Battle’s O’er.”  The band will be accompanied by members of the Colour Party from the Royal Canadian Legion\, Branch 36\, Dundas.
URL:https://dundaspipesanddrums.org/event/ve-75-celebration/
END:VEVENT
BEGIN:VEVENT
DTSTART;TZID=America/Toronto:20200405T140000
DTEND;TZID=America/Toronto:20200405T150000
DTSTAMP:20260421T014301
CREATED:20200226T202342Z
LAST-MODIFIED:20200226T202342Z
UID:281-1586095200-1586098800@dundaspipesanddrums.org
SUMMARY:Concert - St. Joseph's Villa
DESCRIPTION:
URL:https://dundaspipesanddrums.org/event/concert-st-josephs-villa/
END:VEVENT
BEGIN:VEVENT
DTSTART;TZID=America/Toronto:20200315T140000
DTEND;TZID=America/Toronto:20200315T150000
DTSTAMP:20260421T014301
CREATED:20200226T202738Z
LAST-MODIFIED:20200226T202738Z
UID:284-1584280800-1584284400@dundaspipesanddrums.org
SUMMARY:Concert - Amica Stoney Creek
DESCRIPTION:
URL:https://dundaspipesanddrums.org/event/concert-amica-stoney-creek/
END:VEVENT
BEGIN:VEVENT
DTSTART;TZID=America/Toronto:20191208T120000
DTEND;TZID=America/Toronto:20191208T140000
DTSTAMP:20260421T014301
CREATED:20191118T222645Z
LAST-MODIFIED:20191118T222645Z
UID:275-1575806400-1575813600@dundaspipesanddrums.org
SUMMARY:Band Christmas Pot-Luck
DESCRIPTION:
URL:https://dundaspipesanddrums.org/event/band-christmas-pot-luck/
END:VEVENT
BEGIN:VEVENT
DTSTART;TZID=America/Toronto:20191207T110000
DTEND;TZID=America/Toronto:20191207T170000
DTSTAMP:20260421T014301
CREATED:20190904T195247Z
LAST-MODIFIED:20190904T195247Z
UID:265-1575716400-1575738000@dundaspipesanddrums.org
SUMMARY:Stoney Creek Santa pm
DESCRIPTION:
URL:https://dundaspipesanddrums.org/event/stoney-creek-santa-pm/
END:VEVENT
BEGIN:VEVENT
DTSTART;TZID=America/Toronto:20191130T080000
DTEND;TZID=America/Toronto:20191130T170000
DTSTAMP:20260421T014301
CREATED:20190904T195143Z
LAST-MODIFIED:20190904T195143Z
UID:263-1575100800-1575133200@dundaspipesanddrums.org
SUMMARY:Smithville Santa-am; Flamborough Santa-pm
DESCRIPTION:
URL:https://dundaspipesanddrums.org/event/smithville-santa-am-flamborough-santa-pm/
END:VEVENT
BEGIN:VEVENT
DTSTART;TZID=America/Toronto:20191116T100000
DTEND;TZID=America/Toronto:20191116T170000
DTSTAMP:20260421T014301
CREATED:20190904T194854Z
LAST-MODIFIED:20190904T195021Z
UID:260-1573898400-1573923600@dundaspipesanddrums.org
SUMMARY:Niagara Falls Santa- am; Hamilton Santa pm
DESCRIPTION:
URL:https://dundaspipesanddrums.org/event/niagara-falls-santa-am-hamilton-santa-pm/
END:VEVENT
BEGIN:VEVENT
DTSTART;TZID=America/Toronto:20191111T103000
DTEND;TZID=America/Toronto:20191111T120000
DTSTAMP:20260421T014301
CREATED:20190521T151726Z
LAST-MODIFIED:20190521T151726Z
UID:248-1573468200-1573473600@dundaspipesanddrums.org
SUMMARY:Dundas Remembrance Day Parade
DESCRIPTION:
URL:https://dundaspipesanddrums.org/event/dundas-remembrance-day-parade-2/
END:VEVENT
BEGIN:VEVENT
DTSTART;TZID=America/Toronto:20191110T140000
DTEND;TZID=America/Toronto:20191110T150000
DTSTAMP:20260421T014301
CREATED:20190917T211113Z
LAST-MODIFIED:20190917T211113Z
UID:271-1573394400-1573398000@dundaspipesanddrums.org
SUMMARY:Amica Concert
DESCRIPTION:
URL:https://dundaspipesanddrums.org/event/amica-concert/
END:VEVENT
BEGIN:VEVENT
DTSTART;TZID=America/Toronto:20191002T190000
DTEND;TZID=America/Toronto:20191002T210000
DTSTAMP:20260421T014301
CREATED:20190904T194740Z
LAST-MODIFIED:20190904T194740Z
UID:258-1570042800-1570050000@dundaspipesanddrums.org
SUMMARY:Annual General Assembly
DESCRIPTION:
URL:https://dundaspipesanddrums.org/event/annual-general-assembly/
END:VEVENT
BEGIN:VEVENT
DTSTART;TZID=America/Toronto:20190929T100000
DTEND;TZID=America/Toronto:20190929T110000
DTSTAMP:20260421T014301
CREATED:20190904T194626Z
LAST-MODIFIED:20190904T194626Z
UID:256-1569751200-1569754800@dundaspipesanddrums.org
SUMMARY:Walkathon for Hope - Hamilton
DESCRIPTION:
URL:https://dundaspipesanddrums.org/event/walkathon-for-hope-hamilton/
END:VEVENT
BEGIN:VEVENT
DTSTART;TZID=America/Toronto:20190928T110000
DTEND;TZID=America/Toronto:20190928T130000
DTSTAMP:20260421T014301
CREATED:20190521T150808Z
LAST-MODIFIED:20190521T150808Z
UID:244-1569668400-1569675600@dundaspipesanddrums.org
SUMMARY:Niagara Grape Festival Parade
DESCRIPTION:
URL:https://dundaspipesanddrums.org/event/niagara-grape-festival-parade/
END:VEVENT
BEGIN:VEVENT
DTSTART;TZID=America/Toronto:20190904T080000
DTEND;TZID=America/Toronto:20190904T170000
DTSTAMP:20260421T014301
CREATED:20190904T194421Z
LAST-MODIFIED:20190904T194421Z
UID:252-1567584000-1567616400@dundaspipesanddrums.org
SUMMARY:Practices Resume
DESCRIPTION:
URL:https://dundaspipesanddrums.org/event/practices-resume/
END:VEVENT
BEGIN:VEVENT
DTSTART;TZID=America/Toronto:20190815T184500
DTEND;TZID=America/Toronto:20190815T200000
DTSTAMP:20260421T014301
CREATED:20190521T150921Z
LAST-MODIFIED:20190521T150921Z
UID:246-1565894700-1565899200@dundaspipesanddrums.org
SUMMARY:Dundas Cactus Festival Parade
DESCRIPTION:
URL:https://dundaspipesanddrums.org/event/dundas-cactus-festival-parade/
END:VEVENT
BEGIN:VEVENT
DTSTART;TZID=America/Toronto:20190602T093000
DTEND;TZID=America/Toronto:20190602T120000
DTSTAMP:20260421T014301
CREATED:20190521T150624Z
LAST-MODIFIED:20190521T150624Z
UID:242-1559467800-1559476800@dundaspipesanddrums.org
SUMMARY:Legion Church Parade
DESCRIPTION:
URL:https://dundaspipesanddrums.org/event/legion-church-parade/
END:VEVENT
BEGIN:VEVENT
DTSTART;TZID=America/Toronto:20190504T063000
DTEND;TZID=America/Toronto:20190504T230000
DTSTAMP:20260421T014301
CREATED:20190323T193954Z
LAST-MODIFIED:20190323T194741Z
UID:236-1556951400-1557010800@dundaspipesanddrums.org
SUMMARY:Spring Fling Ceilidh
DESCRIPTION:
URL:https://dundaspipesanddrums.org/event/236/
ORGANIZER;CN="Dundas Pipe Band":MAILTO:kgriffin8@cogeco.ca
END:VEVENT
BEGIN:VEVENT
DTSTART;TZID=America/Toronto:20181201T140000
DTEND;TZID=America/Toronto:20181201T160000
DTSTAMP:20260421T014301
CREATED:20181029T201807Z
LAST-MODIFIED:20181029T201807Z
UID:233-1543672800-1543680000@dundaspipesanddrums.org
SUMMARY:Stoney Creek Santa Parade
DESCRIPTION:
URL:https://dundaspipesanddrums.org/event/stoney-creek-santa-parade/
END:VEVENT
BEGIN:VEVENT
DTSTART;TZID=America/Toronto:20181124T183000
DTEND;TZID=America/Toronto:20181124T203000
DTSTAMP:20260421T014301
CREATED:20181029T201642Z
LAST-MODIFIED:20181029T201642Z
UID:231-1543084200-1543091400@dundaspipesanddrums.org
SUMMARY:Flamborough Santa Parade
DESCRIPTION:
URL:https://dundaspipesanddrums.org/event/flamborough-santa-parade/
END:VEVENT
END:VCALENDAR