BEGIN:VCALENDAR
VERSION:2.0
PRODID:-//Dundas Pipes and Drums - ECPv6.15.5//NONSGML v1.0//EN
CALSCALE:GREGORIAN
METHOD:PUBLISH
X-WR-CALNAME:Dundas Pipes and Drums
X-ORIGINAL-URL:https://dundaspipesanddrums.org
X-WR-CALDESC:Events for Dundas Pipes and Drums
REFRESH-INTERVAL;VALUE=DURATION:PT1H
X-Robots-Tag:noindex
X-PUBLISHED-TTL:PT1H
BEGIN:VTIMEZONE
TZID:America/Toronto
BEGIN:DAYLIGHT
TZOFFSETFROM:-0500
TZOFFSETTO:-0400
TZNAME:EDT
DTSTART:20220313T070000
END:DAYLIGHT
BEGIN:STANDARD
TZOFFSETFROM:-0400
TZOFFSETTO:-0500
TZNAME:EST
DTSTART:20221106T060000
END:STANDARD
END:VTIMEZONE
BEGIN:VEVENT
DTSTART;TZID=America/Toronto:20220601T190000
DTEND;TZID=America/Toronto:20220601T210000
DTSTAMP:20260423T084213
CREATED:20220602T204258Z
LAST-MODIFIED:20220602T204258Z
UID:312-1654110000-1654117200@dundaspipesanddrums.org
SUMMARY:Practice returns to the Town Hall
DESCRIPTION:
URL:https://dundaspipesanddrums.org/event/practice-returns-to-the-town-hall/
LOCATION:Ontario
END:VEVENT
BEGIN:VEVENT
DTSTART;TZID=America/Toronto:20220602T213500
DTEND;TZID=America/Toronto:20220602T214000
DTSTAMP:20260423T084213
CREATED:20220602T205040Z
LAST-MODIFIED:20220602T205040Z
UID:322-1654205700-1654206000@dundaspipesanddrums.org
SUMMARY:Queen's Jubilee - pipers playing of Dir Regnare
DESCRIPTION:
URL:https://dundaspipesanddrums.org/event/queens-jubilee-pipers-playing-of-dir-regnare/
LOCATION:vaious locations
END:VEVENT
BEGIN:VEVENT
DTSTART;TZID=America/Toronto:20220619T110000
DTEND;TZID=America/Toronto:20220619T140000
DTSTAMP:20260423T084213
CREATED:20220602T204420Z
LAST-MODIFIED:20220602T204420Z
UID:314-1655636400-1655647200@dundaspipesanddrums.org
SUMMARY:Welland Rose Festival Parade
DESCRIPTION:
URL:https://dundaspipesanddrums.org/event/welland-rose-festival-parade/
LOCATION:Ontario
END:VEVENT
END:VCALENDAR