BEGIN:VCALENDAR
VERSION:2.0
PRODID:-//Dundas Pipes and Drums - ECPv6.15.5//NONSGML v1.0//EN
CALSCALE:GREGORIAN
METHOD:PUBLISH
X-WR-CALNAME:Dundas Pipes and Drums
X-ORIGINAL-URL:https://dundaspipesanddrums.org
X-WR-CALDESC:Events for Dundas Pipes and Drums
REFRESH-INTERVAL;VALUE=DURATION:PT1H
X-Robots-Tag:noindex
X-PUBLISHED-TTL:PT1H
BEGIN:VTIMEZONE
TZID:America/Toronto
BEGIN:DAYLIGHT
TZOFFSETFROM:-0500
TZOFFSETTO:-0400
TZNAME:EDT
DTSTART:20240310T070000
END:DAYLIGHT
BEGIN:STANDARD
TZOFFSETFROM:-0400
TZOFFSETTO:-0500
TZNAME:EST
DTSTART:20241103T060000
END:STANDARD
END:VTIMEZONE
BEGIN:VEVENT
DTSTART;TZID=America/Toronto:20240608T120000
DTEND;TZID=America/Toronto:20240608T120000
DTSTAMP:20260422T003900
CREATED:20240402T140955Z
LAST-MODIFIED:20240402T140955Z
UID:451-1717848000-1717848000@dundaspipesanddrums.org
SUMMARY:Georgetown Highland Games
DESCRIPTION:The band will be competing at the 2024 Georgetown Highland Games June 8th 2024 \nMassed Bands at 1pm and 5pm
URL:https://dundaspipesanddrums.org/event/georgetown-highland-games/
LOCATION:Georgetown Fairgrounds\, 1 Park Ave\, Halton Hills\, Ontario\, L7G 3H9\, Canada
END:VEVENT
BEGIN:VEVENT
DTSTART;TZID=America/Toronto:20240615T100000
DTEND;TZID=America/Toronto:20240615T120000
DTSTAMP:20260422T003900
CREATED:20240527T143409Z
LAST-MODIFIED:20240527T143409Z
UID:564-1718445600-1718452800@dundaspipesanddrums.org
SUMMARY:Ancaster Heritage Day Parade
DESCRIPTION:
URL:https://dundaspipesanddrums.org/event/ancaster-heritage-day-parade-2/
LOCATION:Ancaster Ontario\, 300 Wilson St E\, Ancaster\, Ontario\, L9G 2B9\, Canada
END:VEVENT
END:VCALENDAR